BEGIN:VCALENDAR
VERSION:2.0
PRODID:-//Gymnasium Hohenlimburg - ECPv6.3.4//NONSGML v1.0//EN
CALSCALE:GREGORIAN
METHOD:PUBLISH
X-WR-CALNAME:Gymnasium Hohenlimburg
X-ORIGINAL-URL:https://gymnasium-hohenlimburg.de
X-WR-CALDESC:Veranstaltungen für Gymnasium Hohenlimburg
REFRESH-INTERVAL;VALUE=DURATION:PT1H
X-Robots-Tag:noindex
X-PUBLISHED-TTL:PT1H
BEGIN:VTIMEZONE
TZID:Europe/Berlin
BEGIN:DAYLIGHT
TZOFFSETFROM:+0100
TZOFFSETTO:+0200
TZNAME:CEST
DTSTART:20250330T010000
END:DAYLIGHT
BEGIN:STANDARD
TZOFFSETFROM:+0200
TZOFFSETTO:+0100
TZNAME:CET
DTSTART:20251026T010000
END:STANDARD
END:VTIMEZONE
BEGIN:VEVENT
DTSTART;TZID=Europe/Berlin:20250404T180000
DTEND;TZID=Europe/Berlin:20250404T200000
DTSTAMP:20260421T123850
CREATED:20250328T081639Z
LAST-MODIFIED:20250328T113948Z
UID:10000029-1743789600-1743796800@gymnasium-hohenlimburg.de
SUMMARY:Filmangebot zur Nacht der Bibliotheken in der Stadtteilbücherei Hohenlimburg
DESCRIPTION:Am Freitag\, 04. April findet deutschlandweit die NACHT DER BIBLIOTHEKEN statt.\nUnter dem Motto „Wissen. Teilen. Entdecken“ werden Bibliotheken in ganz\nDeutschland um die Wette strahlen.\nIn der Stadtteilbücherei Hohenlimburg hat sich das Team der Bücherei zusammen\nmit dem Förderverein HohenlimBuch e.V. eine kleine Überraschung für diesen\nAbend ausgedacht:\nDie vom Filmclub Hohenlimburg e.V. im Jahr 2024 erstellte DVD „Heimatstunde\nHohenlimburg“ wird in Dauerschleife (jeweils 40 Minuten) von 18-20 Uhr im\nVeranstaltungsraum der Bücherei gezeigt. Bei diesem Film geht es um 7 Beiträge\nzur Geschichte in Hohenlimburg.\nThemen sind z.B.: Bahnanschluss\, Jugendstil\, Möller-Denkmal\, Erinnerungsfenster\nim Hohenlimburger Rathaus\, Boeckwaag Friedhof\, Jüdischer Friedhof\, Glasfenster\nvon Elisabeth Coester in der reformierten Kirche.\nJeder der in der Zeit von 18-20 Uhr in der Bücherei vorbeikommt\, kann sich den 40-\nminütigen Film angucken. Dazu bietet der Förderverein HohenlimBuch e.V.\nPizzabrötchen und Getränke zu kleinen Preisen. Wer möchte kann auch gerne die\nGelegenheit wahrnehmen und sich die Bücherei näher anschauen oder auch Bücher\nausleihen.\nDer Eintritt zur Veranstaltung ist frei\, eine Anmeldung ist nicht erforderlich!\nWeitere Infos unter der Telefon-Nr.: 02331/207-4477.
URL:https://gymnasium-hohenlimburg.de/termin/filmangebot-zur-nacht-der-bibliotheken-in-der-stadtteilbuecherei-hohenlimburg/
LOCATION:Gymnasium Hohenlimburg\, Wiesenstr. 27\, Hagen-Hohenlimburg\, 58119\, Deutschland
END:VEVENT
END:VCALENDAR