BEGIN:VCALENDAR
VERSION:2.0
PRODID:-//Gymnasium Hohenlimburg - ECPv6.3.4//NONSGML v1.0//EN
CALSCALE:GREGORIAN
METHOD:PUBLISH
X-WR-CALNAME:Gymnasium Hohenlimburg
X-ORIGINAL-URL:https://gymnasium-hohenlimburg.de
X-WR-CALDESC:Veranstaltungen für Gymnasium Hohenlimburg
REFRESH-INTERVAL;VALUE=DURATION:PT1H
X-Robots-Tag:noindex
X-PUBLISHED-TTL:PT1H
BEGIN:VTIMEZONE
TZID:Europe/Berlin
BEGIN:DAYLIGHT
TZOFFSETFROM:+0100
TZOFFSETTO:+0200
TZNAME:CEST
DTSTART:20230326T010000
END:DAYLIGHT
BEGIN:STANDARD
TZOFFSETFROM:+0200
TZOFFSETTO:+0100
TZNAME:CET
DTSTART:20231029T010000
END:STANDARD
BEGIN:DAYLIGHT
TZOFFSETFROM:+0100
TZOFFSETTO:+0200
TZNAME:CEST
DTSTART:20240331T010000
END:DAYLIGHT
BEGIN:STANDARD
TZOFFSETFROM:+0200
TZOFFSETTO:+0100
TZNAME:CET
DTSTART:20241027T010000
END:STANDARD
BEGIN:DAYLIGHT
TZOFFSETFROM:+0100
TZOFFSETTO:+0200
TZNAME:CEST
DTSTART:20250330T010000
END:DAYLIGHT
BEGIN:STANDARD
TZOFFSETFROM:+0200
TZOFFSETTO:+0100
TZNAME:CET
DTSTART:20251026T010000
END:STANDARD
END:VTIMEZONE
BEGIN:VEVENT
DTSTART;TZID=Europe/Berlin:20250404T180000
DTEND;TZID=Europe/Berlin:20250404T200000
DTSTAMP:20260423T040324
CREATED:20250328T081639Z
LAST-MODIFIED:20250328T113948Z
UID:10000029-1743789600-1743796800@gymnasium-hohenlimburg.de
SUMMARY:Filmangebot zur Nacht der Bibliotheken in der Stadtteilbücherei Hohenlimburg
DESCRIPTION:Am Freitag\, 04. April findet deutschlandweit die NACHT DER BIBLIOTHEKEN statt.\nUnter dem Motto „Wissen. Teilen. Entdecken“ werden Bibliotheken in ganz\nDeutschland um die Wette strahlen.\nIn der Stadtteilbücherei Hohenlimburg hat sich das Team der Bücherei zusammen\nmit dem Förderverein HohenlimBuch e.V. eine kleine Überraschung für diesen\nAbend ausgedacht:\nDie vom Filmclub Hohenlimburg e.V. im Jahr 2024 erstellte DVD „Heimatstunde\nHohenlimburg“ wird in Dauerschleife (jeweils 40 Minuten) von 18-20 Uhr im\nVeranstaltungsraum der Bücherei gezeigt. Bei diesem Film geht es um 7 Beiträge\nzur Geschichte in Hohenlimburg.\nThemen sind z.B.: Bahnanschluss\, Jugendstil\, Möller-Denkmal\, Erinnerungsfenster\nim Hohenlimburger Rathaus\, Boeckwaag Friedhof\, Jüdischer Friedhof\, Glasfenster\nvon Elisabeth Coester in der reformierten Kirche.\nJeder der in der Zeit von 18-20 Uhr in der Bücherei vorbeikommt\, kann sich den 40-\nminütigen Film angucken. Dazu bietet der Förderverein HohenlimBuch e.V.\nPizzabrötchen und Getränke zu kleinen Preisen. Wer möchte kann auch gerne die\nGelegenheit wahrnehmen und sich die Bücherei näher anschauen oder auch Bücher\nausleihen.\nDer Eintritt zur Veranstaltung ist frei\, eine Anmeldung ist nicht erforderlich!\nWeitere Infos unter der Telefon-Nr.: 02331/207-4477.
URL:https://gymnasium-hohenlimburg.de/termin/filmangebot-zur-nacht-der-bibliotheken-in-der-stadtteilbuecherei-hohenlimburg/
LOCATION:Gymnasium Hohenlimburg\, Wiesenstr. 27\, Hagen-Hohenlimburg\, 58119\, Deutschland
END:VEVENT
BEGIN:VEVENT
DTSTART;TZID=Europe/Berlin:20241219T180000
DTEND;TZID=Europe/Berlin:20241219T200000
DTSTAMP:20260423T040324
CREATED:20241205T131854Z
LAST-MODIFIED:20241205T131912Z
UID:10000028-1734631200-1734638400@gymnasium-hohenlimburg.de
SUMMARY:Charity-Abend der Nachhaltigkeitskurse
DESCRIPTION:Die Nachhaltigkeitskurse der Jahrgangsstufe 10 organisieren einen Charity-Abend zum Thema „Armut“. Ein reichhaltiges Programm ist vorbereitet\, der Eintritt ist frei und Spenden sehr erwünscht.
URL:https://gymnasium-hohenlimburg.de/termin/charity-abend-der-nachhaltigkeitskurse/
LOCATION:Gymnasium Hohenlimburg\, Wiesenstr. 27\, Hagen-Hohenlimburg\, 58119\, Deutschland
CATEGORIES:ALL
END:VEVENT
BEGIN:VEVENT
DTSTART;TZID=Europe/Berlin:20240131T180000
DTEND;TZID=Europe/Berlin:20240131T220000
DTSTAMP:20260423T040324
CREATED:20231202T170211Z
LAST-MODIFIED:20240124T123447Z
UID:10000026-1706724000-1706738400@gymnasium-hohenlimburg.de
SUMMARY:Infoabend für Eltern (zukünf. Fünftklässler/ Oberstufenschüler)
DESCRIPTION:
URL:https://gymnasium-hohenlimburg.de/termin/infoabend-fuer-eltern-zukuenf-fuenftklaessler-oberstufenschueler/
LOCATION:Gymnasium Hohenlimburg\, Wiesenstr. 27\, Hagen-Hohenlimburg\, 58119\, Deutschland
CATEGORIES:Erprobungsstufe,Oberstufe
END:VEVENT
BEGIN:VEVENT
DTSTART;VALUE=DATE:20240130
DTEND;VALUE=DATE:20240131
DTSTAMP:20260423T040324
CREATED:20231202T170114Z
LAST-MODIFIED:20231202T170114Z
UID:10000025-1706572800-1706659199@gymnasium-hohenlimburg.de
SUMMARY:Schulfinale: "Jugend debattiert"
DESCRIPTION:
URL:https://gymnasium-hohenlimburg.de/termin/schulfinale-jugend-debattiert/
LOCATION:Gymnasium Hohenlimburg\, Wiesenstr. 27\, Hagen-Hohenlimburg\, 58119\, Deutschland
CATEGORIES:ALL
END:VEVENT
BEGIN:VEVENT
DTSTART;VALUE=DATE:20240126
DTEND;VALUE=DATE:20240127
DTSTAMP:20260423T040324
CREATED:20231202T165839Z
LAST-MODIFIED:20231202T165839Z
UID:10000023-1706227200-1706313599@gymnasium-hohenlimburg.de
SUMMARY:Ende des 1. Halbjahres
DESCRIPTION:
URL:https://gymnasium-hohenlimburg.de/termin/ende-des-1-halbjahres/
LOCATION:Gymnasium Hohenlimburg\, Wiesenstr. 27\, Hagen-Hohenlimburg\, 58119\, Deutschland
CATEGORIES:ALL
END:VEVENT
BEGIN:VEVENT
DTSTART;VALUE=DATE:20240126
DTEND;VALUE=DATE:20240127
DTSTAMP:20260423T040324
CREATED:20231202T165723Z
LAST-MODIFIED:20231202T165723Z
UID:10000022-1706227200-1706313599@gymnasium-hohenlimburg.de
SUMMARY:Ausgabe der Zeugnisse
DESCRIPTION:
URL:https://gymnasium-hohenlimburg.de/termin/ausgabe-der-zeugnisse/
LOCATION:Gymnasium Hohenlimburg\, Wiesenstr. 27\, Hagen-Hohenlimburg\, 58119\, Deutschland
CATEGORIES:ALL
END:VEVENT
BEGIN:VEVENT
DTSTART;VALUE=DATE:20240123
DTEND;VALUE=DATE:20240124
DTSTAMP:20260423T040324
CREATED:20231202T165644Z
LAST-MODIFIED:20231202T165644Z
UID:10000021-1705968000-1706054399@gymnasium-hohenlimburg.de
SUMMARY:Stufe Q2: Zukunftstag
DESCRIPTION:
URL:https://gymnasium-hohenlimburg.de/termin/stufe-q2-zukunftstag/
LOCATION:Gymnasium Hohenlimburg\, Wiesenstr. 27\, Hagen-Hohenlimburg\, 58119\, Deutschland
CATEGORIES:Oberstufe,Q2
END:VEVENT
BEGIN:VEVENT
DTSTART;VALUE=DATE:20240122
DTEND;VALUE=DATE:20240127
DTSTAMP:20260423T040324
CREATED:20231202T165605Z
LAST-MODIFIED:20231202T165605Z
UID:10000020-1705881600-1706313599@gymnasium-hohenlimburg.de
SUMMARY:Stufe Q1: Praktikum
DESCRIPTION:
URL:https://gymnasium-hohenlimburg.de/termin/stufe-q1-praktikum/
LOCATION:Gymnasium Hohenlimburg\, Wiesenstr. 27\, Hagen-Hohenlimburg\, 58119\, Deutschland
CATEGORIES:Oberstufe,Q1
END:VEVENT
BEGIN:VEVENT
DTSTART;VALUE=DATE:20240119
DTEND;VALUE=DATE:20240120
DTSTAMP:20260423T040324
CREATED:20231202T165440Z
LAST-MODIFIED:20231202T165440Z
UID:10000019-1705622400-1705708799@gymnasium-hohenlimburg.de
SUMMARY:Stufe Q2: Ausgabe Laufbahnbescheinigung
DESCRIPTION:
URL:https://gymnasium-hohenlimburg.de/termin/stufe-q2-ausgabe-laufbahnbescheinigung/
LOCATION:Gymnasium Hohenlimburg\, Wiesenstr. 27\, Hagen-Hohenlimburg\, 58119\, Deutschland
CATEGORIES:Oberstufe,Q2
END:VEVENT
BEGIN:VEVENT
DTSTART;VALUE=DATE:20240118
DTEND;VALUE=DATE:20240120
DTSTAMP:20260423T040324
CREATED:20231202T165323Z
LAST-MODIFIED:20231202T165323Z
UID:10000018-1705536000-1705708799@gymnasium-hohenlimburg.de
SUMMARY:Stufe 9: Beratungstag
DESCRIPTION:
URL:https://gymnasium-hohenlimburg.de/termin/stufe-9-beratungstag/
LOCATION:Gymnasium Hohenlimburg\, Wiesenstr. 27\, Hagen-Hohenlimburg\, 58119\, Deutschland
CATEGORIES:Mittelstufe,Stufe 9
END:VEVENT
BEGIN:VEVENT
DTSTART;VALUE=DATE:20240115
DTEND;VALUE=DATE:20240117
DTSTAMP:20260423T040324
CREATED:20231202T165237Z
LAST-MODIFIED:20231202T165237Z
UID:10000017-1705276800-1705449599@gymnasium-hohenlimburg.de
SUMMARY:Stufen Q1/Q2: Workshop "Jugend debattiert"
DESCRIPTION:
URL:https://gymnasium-hohenlimburg.de/termin/stufen-q1-q2-workshop-jugend-debattiert/
LOCATION:Gymnasium Hohenlimburg\, Wiesenstr. 27\, Hagen-Hohenlimburg\, 58119\, Deutschland
CATEGORIES:Oberstufe,Q1,Q2
END:VEVENT
BEGIN:VEVENT
DTSTART;VALUE=DATE:20240112
DTEND;VALUE=DATE:20240113
DTSTAMP:20260423T040324
CREATED:20231202T165053Z
LAST-MODIFIED:20231202T165053Z
UID:10000015-1705017600-1705103999@gymnasium-hohenlimburg.de
SUMMARY:Talentscouting
DESCRIPTION:
URL:https://gymnasium-hohenlimburg.de/termin/talentscouting-2/
END:VEVENT
BEGIN:VEVENT
DTSTART;VALUE=DATE:20240112
DTEND;VALUE=DATE:20240113
DTSTAMP:20260423T040324
CREATED:20231202T165012Z
LAST-MODIFIED:20231202T165012Z
UID:10000014-1705017600-1705103999@gymnasium-hohenlimburg.de
SUMMARY:Stufe Q1: Ende Klausuren
DESCRIPTION:
URL:https://gymnasium-hohenlimburg.de/termin/stufe-q1-ende-klausuren/
LOCATION:Gymnasium Hohenlimburg\, Wiesenstr. 27\, Hagen-Hohenlimburg\, 58119\, Deutschland
CATEGORIES:Oberstufe,Q1
END:VEVENT
BEGIN:VEVENT
DTSTART;VALUE=DATE:20240110
DTEND;VALUE=DATE:20240112
DTSTAMP:20260423T040324
CREATED:20231202T164922Z
LAST-MODIFIED:20231202T164922Z
UID:10000013-1704844800-1705017599@gymnasium-hohenlimburg.de
SUMMARY:Stufen 8-10: Workshop "Jugend debattiert"
DESCRIPTION:
URL:https://gymnasium-hohenlimburg.de/termin/stufen-8-10-workshop-jugend-debattiert/
LOCATION:Gymnasium Hohenlimburg\, Wiesenstr. 27\, Hagen-Hohenlimburg\, 58119\, Deutschland
CATEGORIES:Mittelstufe,Oberstufe
END:VEVENT
BEGIN:VEVENT
DTSTART;VALUE=DATE:20240109
DTEND;VALUE=DATE:20240110
DTSTAMP:20260423T040324
CREATED:20231202T164819Z
LAST-MODIFIED:20231202T164819Z
UID:10000012-1704758400-1704844799@gymnasium-hohenlimburg.de
SUMMARY:Berufsberatung BA
DESCRIPTION:
URL:https://gymnasium-hohenlimburg.de/termin/berufsberatung-ba/
END:VEVENT
BEGIN:VEVENT
DTSTART;VALUE=DATE:20231220
DTEND;VALUE=DATE:20231221
DTSTAMP:20260423T040324
CREATED:20231201T170747Z
LAST-MODIFIED:20231202T164443Z
UID:10000010-1703030400-1703116799@gymnasium-hohenlimburg.de
SUMMARY:Stufe Q2: Ende Klausuren
DESCRIPTION:
URL:https://gymnasium-hohenlimburg.de/termin/stufe-q2-ende-klausuren/
CATEGORIES:Oberstufe,Q2
END:VEVENT
BEGIN:VEVENT
DTSTART;VALUE=DATE:20231219
DTEND;VALUE=DATE:20231220
DTSTAMP:20260423T040324
CREATED:20231201T170527Z
LAST-MODIFIED:20231202T164440Z
UID:10000009-1702944000-1703030399@gymnasium-hohenlimburg.de
SUMMARY:Q2: Kommunikationsprüfung Englisch
DESCRIPTION:
URL:https://gymnasium-hohenlimburg.de/termin/q2-kommunikationspruefung-englisch-2/
CATEGORIES:Oberstufe,Q2
END:VEVENT
BEGIN:VEVENT
DTSTART;VALUE=DATE:20231219
DTEND;VALUE=DATE:20231220
DTSTAMP:20260423T040324
CREATED:20231201T170436Z
LAST-MODIFIED:20231202T164436Z
UID:10000008-1702944000-1703030399@gymnasium-hohenlimburg.de
SUMMARY:St. 5: Schule ohne Rassismus-Rallye
DESCRIPTION:
URL:https://gymnasium-hohenlimburg.de/termin/st-5-schule-ohne-rassismus-rallye/
CATEGORIES:Erprobungsstufe,Stufe 5
END:VEVENT
BEGIN:VEVENT
DTSTART;TZID=Europe/Berlin:20231218T082000
DTEND;TZID=Europe/Berlin:20231218T090000
DTSTAMP:20260423T040324
CREATED:20231214T152600Z
LAST-MODIFIED:20231214T152621Z
UID:10000027-1702887600-1702890000@gymnasium-hohenlimburg.de
SUMMARY:Schulgottesdienst
DESCRIPTION:„Die wahre Bedeutung von Weihnachten“ \nDer Gottesdienst wird von dem katholischen Religionskurs der Jahrgangsstufe 7 vorbereitet. Er beginnt um ca. 8.20 Uhr und endet voraussichtlich um 9 Uhr. Alle Schülerinnen und Schüler des Gymnasiums\nHohenlimburg sind zu diesem Gottesdienst herzlich eingeladen. Für alle Schülerinnen und Schüler\, die nicht an dem Gottesdienst teilnehmen wollen\, beginnt der Unterricht am Montag regulär um 7.55 Uhr in der Schule.\nAlle anderen treffen sich am besten direkt an der Kirche. Sollte man allerdings nicht die Möglichkeit haben\, direkt zur Kirche zu kommen\, besteht die Möglichkeit\, ab 7.40 Uhr in Begleitung von Lehrerinnen und Lehrern von der Schule aus gemeinsam zur Kirche zu gehen. Den Rückweg zur Schule beschreiten alle GottesdienstteilnehmerInnen gemeinsam in Begleitung ebenfalls durch die Lehrerinnen und Lehrer.\nWir freuen uns auf eine rege Teilnahme!
URL:https://gymnasium-hohenlimburg.de/termin/schulgottesdienst/
LOCATION:Gymnasium Hohenlimburg\, Wiesenstr. 27\, Hagen-Hohenlimburg\, 58119\, Deutschland
CATEGORIES:ALL
END:VEVENT
BEGIN:VEVENT
DTSTART;VALUE=DATE:20231218
DTEND;VALUE=DATE:20231219
DTSTAMP:20260423T040324
CREATED:20231201T170326Z
LAST-MODIFIED:20231202T164431Z
UID:10000007-1702857600-1702943999@gymnasium-hohenlimburg.de
SUMMARY:Q2: Kommunikationsprüfung Englisch
DESCRIPTION:
URL:https://gymnasium-hohenlimburg.de/termin/q2-kommunikationspruefung-englisch/
CATEGORIES:Oberstufe,Q2
END:VEVENT
BEGIN:VEVENT
DTSTART;VALUE=DATE:20231215
DTEND;VALUE=DATE:20231216
DTSTAMP:20260423T040324
CREATED:20231201T170207Z
LAST-MODIFIED:20231201T170207Z
UID:10000006-1702598400-1702684799@gymnasium-hohenlimburg.de
SUMMARY:Talentscouting
DESCRIPTION:
URL:https://gymnasium-hohenlimburg.de/termin/talentscouting/
END:VEVENT
BEGIN:VEVENT
DTSTART;VALUE=DATE:20231215
DTEND;VALUE=DATE:20231216
DTSTAMP:20260423T040324
CREATED:20231201T170108Z
LAST-MODIFIED:20231202T164425Z
UID:10000005-1702598400-1702684799@gymnasium-hohenlimburg.de
SUMMARY:Stufe Q1: Beginn Facharbeiten
DESCRIPTION:
URL:https://gymnasium-hohenlimburg.de/termin/stufe-q1-beginn-facharbeiten/
CATEGORIES:Oberstufe,Q1
END:VEVENT
BEGIN:VEVENT
DTSTART;TZID=Europe/Berlin:20231214T180000
DTEND;TZID=Europe/Berlin:20231214T210000
DTSTAMP:20260423T040324
CREATED:20231201T170015Z
LAST-MODIFIED:20231201T170015Z
UID:10000004-1702576800-1702587600@gymnasium-hohenlimburg.de
SUMMARY:2. Schulkonferenz
DESCRIPTION:
URL:https://gymnasium-hohenlimburg.de/termin/2-schulkonferenz/
LOCATION:Gymnasium Hohenlimburg\, Wiesenstr. 27\, Hagen-Hohenlimburg\, 58119\, Deutschland
END:VEVENT
BEGIN:VEVENT
DTSTART;VALUE=DATE:20231207
DTEND;VALUE=DATE:20231208
DTSTAMP:20260423T040324
CREATED:20231201T165930Z
LAST-MODIFIED:20231202T164428Z
UID:10000003-1701907200-1701993599@gymnasium-hohenlimburg.de
SUMMARY:Stufe Q1: 2. Methodenlernen
DESCRIPTION:
URL:https://gymnasium-hohenlimburg.de/termin/stufe-q1-2-methodenlernen/
CATEGORIES:Oberstufe,Q1
END:VEVENT
BEGIN:VEVENT
DTSTART;TZID=Europe/Berlin:20231206T180000
DTEND;TZID=Europe/Berlin:20231206T220000
DTSTAMP:20260423T040324
CREATED:20231201T165833Z
LAST-MODIFIED:20231201T165833Z
UID:10000002-1701885600-1701900000@gymnasium-hohenlimburg.de
SUMMARY:2. Schulpflegschaft
DESCRIPTION:
URL:https://gymnasium-hohenlimburg.de/termin/2-schulpflegschaft/
LOCATION:Gymnasium Hohenlimburg\, Wiesenstr. 27\, Hagen-Hohenlimburg\, 58119\, Deutschland
END:VEVENT
BEGIN:VEVENT
DTSTART;TZID=Europe/Berlin:20231202T100000
DTEND;TZID=Europe/Berlin:20231202T130000
DTSTAMP:20260423T040324
CREATED:20231201T165719Z
LAST-MODIFIED:20231202T164416Z
UID:10000001-1701511200-1701522000@gymnasium-hohenlimburg.de
SUMMARY:Tag der offenen Tür
DESCRIPTION:Liebe Eltern\, liebe Schülerinnen und Schüler mit dem Wunsch die Schullaufbahn am Gymnasium Hohenlimburg fortzusetzen! \nWir freuen uns sehr\, Sie am Tag der offenen Tür in diesem Jahr – endlich wieder wie vor der Pandemie gewohnt – in einer Präsenzveranstaltung in unserer Schule zu begrüßen. \nAngebote am Samstag\, den 02.12.2023\, von 10:00 – 13:00 Uhr \n\nfür Viertklässler:innen sowie ihre Eltern\n\nWir begrüßen Sie um 10.00 Uhr in unserem Forum. Ihren Kindern bieten wir an\, in zwei Workshopphasen (10.30 bis 11.00 Uhr und 11.30 bis 12.00 Uhr) in unterrichtliches Arbeiten am GymHo hineinzuschnuppern\, diese Workshops werden zusammen mit unseren derzeitigen fünften Klassen (halbierte Lerngruppen) durchgeführt. \nIn den beiden gleichen Zeitfenstern haben Sie als Eltern die Gelegenheit\, unsere Schule und das Schulgelände in Überblicksführungen kennen zu lernen und über die Erprobungsstufe am GymHo Informationen zu erhalten. \nNach 12.00 Uhr stehen Ihnen auch weiterhin in unseren vorbereiteten Fachräumen im Hauptgebäude Kolleg:innen zum Austausch über verschieden Konzepte\, Fahrten und Fachbereiche zur Verfügung. \nZur Zuweisung zu den Workshopgruppen (es ist leider keine Wahl möglich) empfehlen wir eine Ankunft ab 9.30 Uhr. \n\nfür Schüler:innen mit mittlerem Schulabschluss und Qualifikation zum Besuch der gymnasialen Oberstufe sowie ihre Eltern\n\nFür das Schuljahr 2024/25 ist natürlich auch wieder eine Anmeldung in die Einführungsphase der gymnasialen Oberstufe des GymHo möglich! Am Tag der offenen Tür stehen Ihnen auch die Beratungslehrer:innen der Oberstufe für den Austausch zur Verfügung\, auch Schüler:innen\, die erfolgreich den Wechsel in die gymnasiale Oberstufe des GymHo gemeistert haben\, werden gerne berichten. \nAls weiteres Informationsangebot bieten wir am Mittwoch\, dem 31.01.2024\, um 19.00 Uhr Infoveranstaltungen an. Bitte melden Sie sich bei Interesse unter u.fueg@gymnasium-hohenlimburg.de (für die Erprobungsstufe) oder c.kreutz@gymnasium-hohenlimburg.de (für die Oberstufe) bis Mittwoch\, den 24.01.2024\, an. \nAußerdem verweisen wir auf unsere TaskCard. \nNach bisherigem Planungsstand wird es sowohl etwas für das leibliche Wohl geben (Waffeln\, Kaffee\, Angebot unserer Cafeteria) als auch Einblicke in außerunterrichtliche Aktivitäten am GymHo: Vorstellung des Fördervereins\, der Schulpflegschaft\, der Sporthelfer:innen und des Schulsanitätsdienstes\, sowie Eindrücke einer Orchesterprobe. Für die Teilnahme an Angeboten in unserer Sporthalle empfehlen wir\, Hallensportschuhe oder Anti-Rutsch-Socken für die Kinder mitzubringen!
URL:https://gymnasium-hohenlimburg.de/termin/tag-der-offenen-tuer/
LOCATION:Gymnasium Hohenlimburg\, Wiesenstr. 27\, Hagen-Hohenlimburg\, 58119\, Deutschland
CATEGORIES:Erprobungsstufe,Stufe 5
END:VEVENT
END:VCALENDAR